BEGIN:VCALENDAR
VERSION:2.0
PRODID:-//Rangers Network - ECPv6.15.20//NONSGML v1.0//EN
CALSCALE:GREGORIAN
METHOD:PUBLISH
X-WR-CALNAME:Rangers Network
X-ORIGINAL-URL:https://rangersnetwork.com
X-WR-CALDESC:Events for Rangers Network
REFRESH-INTERVAL;VALUE=DURATION:PT1H
X-Robots-Tag:noindex
X-PUBLISHED-TTL:PT1H
BEGIN:VTIMEZONE
TZID:UTC
BEGIN:STANDARD
TZOFFSETFROM:+0000
TZOFFSETTO:+0000
TZNAME:UTC
DTSTART:20231231T230000
END:STANDARD
END:VTIMEZONE
BEGIN:VEVENT
DTSTART;TZID=UTC:20250829T170000
DTEND;TZID=UTC:20250829T200000
DTSTAMP:20260423T175829
CREATED:20250727T011406Z
LAST-MODIFIED:20250727T011406Z
UID:4701-1756486800-1756497600@rangersnetwork.com
SUMMARY:Varsity Football - Roosevelt Rough Riders vs Smithson Valley Rangers
DESCRIPTION:
URL:https://rangersnetwork.com/event/varsity-football-roosevelt-rough-riders-vs-smithson-valley-rangers/
LOCATION:Ranger Stadium
END:VEVENT
END:VCALENDAR